BEGIN:VCALENDAR
VERSION:2.0
PRODID:-//https://www.ried-marckolsheim.fr///NONSGML kigkonsult.se iCalcreator 2.10.15//
METHOD:PUBLISH
BEGIN:VEVENT
UID:20260424T130601CEST-0601K7juKg@https://www.ried-marckolsheim.fr/
DTSTAMP:20260424T110601Z
DESCRIPTION:Pigments et plantes nous fournissent de la couleur.\nApprenez à
  confectionner vos peintures naturelles grâce à des techniques simples pou
 r toute la famille.\nSur inscription.\n&nbsp\;\n\n&nbsp\; https://www.ried
 -marckolsheim.fr/tous-les-evenements-extranet/evenement/517-atelier-diy-me
 s-peintures-naturelles-avec-la-maison-de-la-nature
DTSTART:20260523T101500Z
DTEND:20260523T120000Z
LOCATION:Médiathèque de la Bouilloire (1 Imp. de l'École\, 67390 Marckolshe
 im\, France)
SUMMARY:Atelier DIY: mes peintures naturelles avec la Maison de la Nature
URL:https://www.ried-marckolsheim.fr/tous-les-evenements-extranet/evenement
 /517-atelier-diy-mes-peintures-naturelles-avec-la-maison-de-la-nature
END:VEVENT
END:VCALENDAR
