BEGIN:VCALENDAR
VERSION:2.0
PRODID:-//https://www.ried-marckolsheim.fr///NONSGML kigkonsult.se iCalcreator 2.10.15//
METHOD:PUBLISH
BEGIN:VEVENT
UID:20260424T132451CEST-4572I52OE8@https://www.ried-marckolsheim.fr/
DTSTAMP:20260424T112451Z
DESCRIPTION:Petites histoires et bonne humeur pour cette matinée destinée a
 ux tout petits de 0 à 4 ans !\nLectures à 9h30 et 10h30\, venez et reparte
 z quand vous le souhaitez !\n\n&nbsp\; https://www.ried-marckolsheim.fr/to
 us-les-evenements-extranet/evenement/516-matinee-petits-petons
DTSTART:20260512T093000Z
DTEND:20260512T103000Z
LOCATION:Médiathèque du Grand Ried (3 Pl. de la Mairie\, 67820 Wittisheim\,
  France)
SUMMARY:Matinée Petits Petons
URL:https://www.ried-marckolsheim.fr/tous-les-evenements-extranet/evenement
 /516-matinee-petits-petons
END:VEVENT
END:VCALENDAR
