BEGIN:VCALENDAR
VERSION:2.0
PRODID:-//https://www.ried-marckolsheim.fr///NONSGML kigkonsult.se iCalcreator 2.10.15//
METHOD:PUBLISH
BEGIN:VEVENT
UID:20260424T131131CEST-246665nz8A@https://www.ried-marckolsheim.fr/
DTSTAMP:20260424T111131Z
DESCRIPTION:Venez découvrir l'univers graphique de Léonie Koelsch en partic
 ipant à cet atelier et en créant une fresque nature !\n&nbsp\;\n\n&nbsp\; 
 https://www.ried-marckolsheim.fr/tous-les-evenements-extranet/evenement/51
 5-atelier-avec-leonie-koelsch
DTSTART:20260506T100000Z
DTEND:20260506T113000Z
LOCATION:Médiathèque du Grand Ried (3 Pl. de la Mairie\, 67820 Wittisheim\,
  France)
SUMMARY:Atelier avec Léonie Koelsch
URL:https://www.ried-marckolsheim.fr/tous-les-evenements-extranet/evenement
 /515-atelier-avec-leonie-koelsch
END:VEVENT
END:VCALENDAR
